BEGIN:VCALENDAR
VERSION:2.0
PRODID:spatie/icalendar-generator
DESCRIPTION:Events from Bombeiros Voluntários de Mangualde
X-WR-CALDESC:Events from Bombeiros Voluntários de Mangualde
REFRESH-INTERVAL;VALUE=DURATION:PT1440M
X-PUBLISHED-TTL:PT1440M
BEGIN:VTIMEZONE
TZID:Europe/Lisbon
BEGIN:STANDARD
DTSTART:20251026T020000Z
TZOFFSETFROM:+0100
TZOFFSETTO:+0000
END:STANDARD
BEGIN:DAYLIGHT
DTSTART:20260329T010000Z
TZOFFSETFROM:+0000
TZOFFSETTO:+0100
END:DAYLIGHT
END:VTIMEZONE
BEGIN:VTIMEZONE
TZID:UTC
BEGIN:STANDARD
DTSTART:20250727T114322Z
TZOFFSETFROM:+0000
TZOFFSETTO:+0000
END:STANDARD
END:VTIMEZONE
BEGIN:VEVENT
UID:568-73
DTSTAMP:20260423T114322Z
SUMMARY:CONVOCATÓRIA | Assembleia Geral Ordinária
LOCATION:Bombeiros Voluntários de Mangualde Rua da Lavandeira N.º7  Mangu
 alde Viseu 3530-262
ORGANIZER;CN=abvmangualde:MAILTO:geral@abvmangualde.com
DTSTART;TZID=Europe/Lisbon:20260320T203000
DTEND;TZID=Europe/Lisbon:20260320T220000
X-ALT-DESC;FMTTYPE=TEXT/HTML:
CATEGORIES:Quartel
URL;VALUE=URI:https://www.abvmangualde.com/mc-events/convocatoria-assemblei
 a-geral-ordinaria-2/
METHOD:PUBLISH
END:VEVENT
END:VCALENDAR