BEGIN:VCALENDAR
VERSION:2.0
PRODID:spatie/icalendar-generator
DESCRIPTION:Events from Bombeiros Voluntários de Mangualde
X-WR-CALDESC:Events from Bombeiros Voluntários de Mangualde
REFRESH-INTERVAL;VALUE=DURATION:PT1440M
X-PUBLISHED-TTL:PT1440M
BEGIN:VTIMEZONE
TZID:Europe/Lisbon
BEGIN:STANDARD
DTSTART:20251026T020000Z
TZOFFSETFROM:+0100
TZOFFSETTO:+0000
END:STANDARD
BEGIN:DAYLIGHT
DTSTART:20260329T010000Z
TZOFFSETFROM:+0000
TZOFFSETTO:+0100
END:DAYLIGHT
BEGIN:STANDARD
DTSTART:20261025T020000Z
TZOFFSETFROM:+0100
TZOFFSETTO:+0000
END:STANDARD
END:VTIMEZONE
BEGIN:VTIMEZONE
TZID:UTC
BEGIN:STANDARD
DTSTART:20250727T130742Z
TZOFFSETFROM:+0000
TZOFFSETTO:+0000
END:STANDARD
END:VTIMEZONE
BEGIN:VEVENT
UID:464-54
DTSTAMP:20260423T130742Z
SUMMARY:CEDÊNCIA 2026 | Ruben Rosa
LOCATION:Pavilhão Desportivo Rua da Lavandeira N.º7  Mangualde Viseu 3530
 -262
ORGANIZER;CN=abvmangualde:MAILTO:geral@abvmangualde.com
RRULE:FREQ=WEEKLY;UNTIL=20261225T000000Z
DTSTART;TZID=Europe/Lisbon:20260501T190000
DTEND;TZID=Europe/Lisbon:20260501T203000
X-ALT-DESC;FMTTYPE=TEXT/HTML:
CATEGORIES:Pavilhão
URL;VALUE=URI:https://www.abvmangualde.com/mc-events/cedencia-2026-ruben-ro
 sa/?mc_id=464
METHOD:PUBLISH
END:VEVENT
END:VCALENDAR