BEGIN:VCALENDAR
VERSION:2.0
PRODID:spatie/icalendar-generator
DESCRIPTION:Events from Bombeiros Voluntários de Mangualde
X-WR-CALDESC:Events from Bombeiros Voluntários de Mangualde
REFRESH-INTERVAL;VALUE=DURATION:PT1440M
X-PUBLISHED-TTL:PT1440M
BEGIN:VTIMEZONE
TZID:Europe/Lisbon
BEGIN:STANDARD
DTSTART:20251026T020000Z
TZOFFSETFROM:+0100
TZOFFSETTO:+0000
END:STANDARD
BEGIN:DAYLIGHT
DTSTART:20260329T010000Z
TZOFFSETFROM:+0000
TZOFFSETTO:+0100
END:DAYLIGHT
END:VTIMEZONE
BEGIN:VTIMEZONE
TZID:UTC
BEGIN:STANDARD
DTSTART:20250727T162902Z
TZOFFSETFROM:+0000
TZOFFSETTO:+0000
END:STANDARD
END:VTIMEZONE
BEGIN:VEVENT
UID:558-64
DTSTAMP:20260423T162902Z
SUMMARY:SAÍDA FANFARRA 2026 | Festa Religiosa - Fonte Arcada
LOCATION:
ORGANIZER;CN=abvmangualde:MAILTO:geral@abvmangualde.com
DTSTART;TZID=Europe/Lisbon:20260419T130000
DTEND;TZID=Europe/Lisbon:20260419T180000
X-ALT-DESC;FMTTYPE=TEXT/HTML:
CATEGORIES:Fanfarra
URL;VALUE=URI:https://www.abvmangualde.com/mc-events/saida-fanfarra-2026-fe
 sta-religiosa-fonte-arcada/
METHOD:PUBLISH
END:VEVENT
END:VCALENDAR