BEGIN:VCALENDAR
VERSION:2.0
PRODID:spatie/icalendar-generator
DESCRIPTION:Events from Bombeiros Voluntários de Mangualde
X-WR-CALDESC:Events from Bombeiros Voluntários de Mangualde
REFRESH-INTERVAL;VALUE=DURATION:PT1440M
X-PUBLISHED-TTL:PT1440M
BEGIN:VTIMEZONE
TZID:Europe/Lisbon
BEGIN:STANDARD
DTSTART:20251026T020000Z
TZOFFSETFROM:+0100
TZOFFSETTO:+0000
END:STANDARD
BEGIN:DAYLIGHT
DTSTART:20260329T010000Z
TZOFFSETFROM:+0000
TZOFFSETTO:+0100
END:DAYLIGHT
END:VTIMEZONE
BEGIN:VTIMEZONE
TZID:UTC
BEGIN:STANDARD
DTSTART:20250727T145641Z
TZOFFSETFROM:+0000
TZOFFSETTO:+0000
END:STANDARD
END:VTIMEZONE
BEGIN:VEVENT
UID:511-55
DTSTAMP:20260423T145641Z
SUMMARY:CEDÊNCIA 2026 | Luis Gomes
LOCATION:Pavilhão Desportivo Rua da Lavandeira N.º7  Mangualde Viseu 3530
 -262
ORGANIZER;CN=abvmangualde:MAILTO:geral@abvmangualde.com
RRULE:FREQ=WEEKLY;UNTIL=20261228T000000Z
DTSTART;TZID=Europe/Lisbon:20260413T213000
DTEND;TZID=Europe/Lisbon:20260413T233000
X-ALT-DESC;FMTTYPE=TEXT/HTML:
CATEGORIES:Pavilhão
URL;VALUE=URI:https://www.abvmangualde.com/mc-events/cedencia-2026-luis-gom
 es/?mc_id=511
METHOD:PUBLISH
END:VEVENT
END:VCALENDAR