BEGIN:VCALENDAR
VERSION:2.0
PRODID:spatie/icalendar-generator
DESCRIPTION:Events from Bombeiros Voluntários de Mangualde
X-WR-CALDESC:Events from Bombeiros Voluntários de Mangualde
REFRESH-INTERVAL;VALUE=DURATION:PT1440M
X-PUBLISHED-TTL:PT1440M
BEGIN:VTIMEZONE
TZID:Europe/Lisbon
BEGIN:STANDARD
DTSTART:20251026T020000Z
TZOFFSETFROM:+0100
TZOFFSETTO:+0000
END:STANDARD
BEGIN:DAYLIGHT
DTSTART:20260329T010000Z
TZOFFSETFROM:+0000
TZOFFSETTO:+0100
END:DAYLIGHT
BEGIN:STANDARD
DTSTART:20261025T020000Z
TZOFFSETFROM:+0100
TZOFFSETTO:+0000
END:STANDARD
END:VTIMEZONE
BEGIN:VTIMEZONE
TZID:UTC
BEGIN:STANDARD
DTSTART:20250727T145904Z
TZOFFSETFROM:+0000
TZOFFSETTO:+0000
END:STANDARD
END:VTIMEZONE
BEGIN:VEVENT
UID:364-52
DTSTAMP:20260423T145904Z
SUMMARY:ENSAIOS 2026 | Fanfarra
LOCATION:Bombeiros Voluntários de Mangualde Rua da Lavandeira N.º7  Mangu
 alde Viseu 3530-262
ORGANIZER;CN=abvmangualde:MAILTO:geral@abvmangualde.com
RRULE:FREQ=WEEKLY;UNTIL=20261216T000000Z
DTSTART;TZID=Europe/Lisbon:20260506T210000
DTEND;TZID=Europe/Lisbon:20260506T223000
X-ALT-DESC;FMTTYPE=TEXT/HTML:
CATEGORIES:Fanfarra
URL;VALUE=URI:https://www.abvmangualde.com/mc-events/ensaios-2026-fanfarra/
 ?mc_id=364
METHOD:PUBLISH
END:VEVENT
END:VCALENDAR