BEGIN:VCALENDAR
VERSION:2.0
PRODID:spatie/icalendar-generator
DESCRIPTION:Events from Bombeiros Voluntários de Mangualde
X-WR-CALDESC:Events from Bombeiros Voluntários de Mangualde
REFRESH-INTERVAL;VALUE=DURATION:PT1440M
X-PUBLISHED-TTL:PT1440M
BEGIN:VTIMEZONE
TZID:Europe/Lisbon
BEGIN:STANDARD
DTSTART:20251026T020000Z
TZOFFSETFROM:+0100
TZOFFSETTO:+0000
END:STANDARD
BEGIN:DAYLIGHT
DTSTART:20260329T010000Z
TZOFFSETFROM:+0000
TZOFFSETTO:+0100
END:DAYLIGHT
BEGIN:STANDARD
DTSTART:20261025T020000Z
TZOFFSETFROM:+0100
TZOFFSETTO:+0000
END:STANDARD
END:VTIMEZONE
BEGIN:VTIMEZONE
TZID:UTC
BEGIN:STANDARD
DTSTART:20250727T130545Z
TZOFFSETFROM:+0000
TZOFFSETTO:+0000
END:STANDARD
END:VTIMEZONE
BEGIN:VEVENT
UID:221-2
DTSTAMP:20260423T130545Z
SUMMARY:CEDÊNCIA | Gigantes Sport Mangualde
LOCATION:Pavilhão Desportivo Rua da Lavandeira N.º7  Mangualde Viseu 3530
 -262
ORGANIZER;CN=abvmangualde:MAILTO:geral@abvmangualde.com
DTSTART;TZID=Europe/Lisbon:20260401T180000
DTEND;TZID=Europe/Lisbon:20260401T190000
X-ALT-DESC;FMTTYPE=TEXT/HTML:
CATEGORIES:Pavilhão
URL;VALUE=URI:https://www.abvmangualde.com/mc-events/cedencia-gigantes-spor
 t-mangualde/
METHOD:PUBLISH
END:VEVENT
BEGIN:VEVENT
UID:359-52
DTSTAMP:20260423T130545Z
SUMMARY:ENSAIOS 2026 | Fanfarra
LOCATION:Bombeiros Voluntários de Mangualde Rua da Lavandeira N.º7  Mangu
 alde Viseu 3530-262
ORGANIZER;CN=abvmangualde:MAILTO:geral@abvmangualde.com
RRULE:FREQ=WEEKLY;UNTIL=20261216T000000Z
DTSTART;TZID=Europe/Lisbon:20260401T210000
DTEND;TZID=Europe/Lisbon:20260401T223000
X-ALT-DESC;FMTTYPE=TEXT/HTML:
CATEGORIES:Fanfarra
URL;VALUE=URI:https://www.abvmangualde.com/mc-events/ensaios-2026-fanfarra/
 ?mc_id=359
METHOD:PUBLISH
END:VEVENT
BEGIN:VEVENT
UID:574-79
DTSTAMP:20260423T130545Z
SUMMARY:CEDÊNCIA 2026 | Claudio Rodrigues
LOCATION:Pavilhão Desportivo Rua da Lavandeira N.º7  Mangualde Viseu 3530
 -262
ORGANIZER;CN=abvmangualde:MAILTO:geral@abvmangualde.com
DTSTART;TZID=Europe/Lisbon:20260402T210000
DTEND;TZID=Europe/Lisbon:20260402T230000
X-ALT-DESC;FMTTYPE=TEXT/HTML:
CATEGORIES:Pavilhão
URL;VALUE=URI:https://www.abvmangualde.com/mc-events/cedencia-2026-claudio-
 rodrigues/
METHOD:PUBLISH
END:VEVENT
BEGIN:VEVENT
UID:460-54
DTSTAMP:20260423T130545Z
SUMMARY:CEDÊNCIA 2026 | Ruben Rosa
LOCATION:Pavilhão Desportivo Rua da Lavandeira N.º7  Mangualde Viseu 3530
 -262
ORGANIZER;CN=abvmangualde:MAILTO:geral@abvmangualde.com
RRULE:FREQ=WEEKLY;UNTIL=20261225T000000Z
DTSTART;TZID=Europe/Lisbon:20260403T190000
DTEND;TZID=Europe/Lisbon:20260403T203000
X-ALT-DESC;FMTTYPE=TEXT/HTML:
CATEGORIES:Pavilhão
URL;VALUE=URI:https://www.abvmangualde.com/mc-events/cedencia-2026-ruben-ro
 sa/?mc_id=460
METHOD:PUBLISH
END:VEVENT
BEGIN:VEVENT
UID:575-80
DTSTAMP:20260423T130545Z
SUMMARY:CEDÊNCIA 2026 | Duarte Mateus
LOCATION:Pavilhão Desportivo Rua da Lavandeira N.º7  Mangualde Viseu 3530
 -262
ORGANIZER;CN=abvmangualde:MAILTO:geral@abvmangualde.com
DTSTART;TZID=Europe/Lisbon:20260404T210000
DTEND;TZID=Europe/Lisbon:20260404T230000
X-ALT-DESC;FMTTYPE=TEXT/HTML:
CATEGORIES:Pavilhão
URL;VALUE=URI:https://www.abvmangualde.com/mc-events/cedencia-2026-duarte-m
 ateus/
METHOD:PUBLISH
END:VEVENT
BEGIN:VEVENT
UID:409-53
DTSTAMP:20260423T130546Z
SUMMARY:CEDÊNCIA 2026 | Pedro Duarte
LOCATION:Pavilhão Desportivo Rua da Lavandeira N.º7  Mangualde Viseu 3530
 -262
ORGANIZER;CN=abvmangualde:MAILTO:geral@abvmangualde.com
RRULE:FREQ=WEEKLY;UNTIL=20261227T000000Z
DTSTART;TZID=Europe/Lisbon:20260405T090000
DTEND;TZID=Europe/Lisbon:20260405T110000
X-ALT-DESC;FMTTYPE=TEXT/HTML:
CATEGORIES:Pavilhão
URL;VALUE=URI:https://www.abvmangualde.com/mc-events/cedencia-2026-pedro-du
 arte/?mc_id=409
METHOD:PUBLISH
END:VEVENT
BEGIN:VEVENT
UID:258-50
DTSTAMP:20260423T130546Z
SUMMARY:CEDÊNCIA 2026 | Marcelo Marques
LOCATION:Pavilhão Desportivo Rua da Lavandeira N.º7  Mangualde Viseu 3530
 -262
ORGANIZER;CN=abvmangualde:MAILTO:geral@abvmangualde.com
RRULE:FREQ=WEEKLY;UNTIL=20261228T000000Z
DTSTART;TZID=Europe/Lisbon:20260406T193000
DTEND;TZID=Europe/Lisbon:20260406T210000
X-ALT-DESC;FMTTYPE=TEXT/HTML:
CATEGORIES:Pavilhão
URL;VALUE=URI:https://www.abvmangualde.com/mc-events/cedencia-2026-marcelo-
 marques/?mc_id=258
METHOD:PUBLISH
END:VEVENT
BEGIN:VEVENT
UID:510-55
DTSTAMP:20260423T130546Z
SUMMARY:CEDÊNCIA 2026 | Luis Gomes
LOCATION:Pavilhão Desportivo Rua da Lavandeira N.º7  Mangualde Viseu 3530
 -262
ORGANIZER;CN=abvmangualde:MAILTO:geral@abvmangualde.com
RRULE:FREQ=WEEKLY;UNTIL=20261228T000000Z
DTSTART;TZID=Europe/Lisbon:20260406T213000
DTEND;TZID=Europe/Lisbon:20260406T233000
X-ALT-DESC;FMTTYPE=TEXT/HTML:
CATEGORIES:Pavilhão
URL;VALUE=URI:https://www.abvmangualde.com/mc-events/cedencia-2026-luis-gom
 es/?mc_id=510
METHOD:PUBLISH
END:VEVENT
BEGIN:VEVENT
UID:571-76
DTSTAMP:20260423T130546Z
SUMMARY:CEDÊNCIA 2026 | Azurphisiovida\, lda
LOCATION:Pavilhão Desportivo Rua da Lavandeira N.º7  Mangualde Viseu 3530
 -262
ORGANIZER;CN=abvmangualde:MAILTO:geral@abvmangualde.com
DTSTART;TZID=Europe/Lisbon:20260407T180000
DTEND;TZID=Europe/Lisbon:20260407T200000
X-ALT-DESC;FMTTYPE=TEXT/HTML:
CATEGORIES:Pavilhão
URL;VALUE=URI:https://www.abvmangualde.com/mc-events/cedencia-2026-azurphis
 iovida-lda/
METHOD:PUBLISH
END:VEVENT
BEGIN:VEVENT
UID:309-51
DTSTAMP:20260423T130546Z
SUMMARY:CEDÊNCIA 2026 | Jorge Silva
LOCATION:Pavilhão Desportivo Rua da Lavandeira N.º7  Mangualde Viseu 3530
 -262
ORGANIZER;CN=abvmangualde:MAILTO:geral@abvmangualde.com
RRULE:FREQ=WEEKLY;UNTIL=20261229T000000Z
DTSTART;TZID=Europe/Lisbon:20260407T210000
DTEND;TZID=Europe/Lisbon:20260407T230000
X-ALT-DESC;FMTTYPE=TEXT/HTML:
CATEGORIES:Pavilhão
URL;VALUE=URI:https://www.abvmangualde.com/mc-events/cedencia-2026-jorge-si
 lva/?mc_id=309
METHOD:PUBLISH
END:VEVENT
BEGIN:VEVENT
UID:222-2
DTSTAMP:20260423T130546Z
SUMMARY:CEDÊNCIA | Gigantes Sport Mangualde
LOCATION:Pavilhão Desportivo Rua da Lavandeira N.º7  Mangualde Viseu 3530
 -262
ORGANIZER;CN=abvmangualde:MAILTO:geral@abvmangualde.com
DTSTART;TZID=Europe/Lisbon:20260408T180000
DTEND;TZID=Europe/Lisbon:20260408T190000
X-ALT-DESC;FMTTYPE=TEXT/HTML:
CATEGORIES:Pavilhão
URL;VALUE=URI:https://www.abvmangualde.com/mc-events/cedencia-gigantes-spor
 t-mangualde/
METHOD:PUBLISH
END:VEVENT
BEGIN:VEVENT
UID:578-77
DTSTAMP:20260423T130546Z
SUMMARY:CEDÊNCIA 2026 | Hugo Gomes
LOCATION:Pavilhão Desportivo Rua da Lavandeira N.º7  Mangualde Viseu 3530
 -262
ORGANIZER;CN=abvmangualde:MAILTO:geral@abvmangualde.com
DTSTART;TZID=Europe/Lisbon:20260409T190000
DTEND;TZID=Europe/Lisbon:20260409T210000
X-ALT-DESC;FMTTYPE=TEXT/HTML:
CATEGORIES:Pavilhão
URL;VALUE=URI:https://www.abvmangualde.com/mc-events/cedencia-2026-hugo-gom
 es/
METHOD:PUBLISH
END:VEVENT
BEGIN:VEVENT
UID:223-2
DTSTAMP:20260423T130546Z
SUMMARY:CEDÊNCIA | Gigantes Sport Mangualde
LOCATION:Pavilhão Desportivo Rua da Lavandeira N.º7  Mangualde Viseu 3530
 -262
ORGANIZER;CN=abvmangualde:MAILTO:geral@abvmangualde.com
DTSTART;TZID=Europe/Lisbon:20260410T180000
DTEND;TZID=Europe/Lisbon:20260410T190000
X-ALT-DESC;FMTTYPE=TEXT/HTML:
CATEGORIES:Pavilhão
URL;VALUE=URI:https://www.abvmangualde.com/mc-events/cedencia-gigantes-spor
 t-mangualde/
METHOD:PUBLISH
END:VEVENT
BEGIN:VEVENT
UID:579-77
DTSTAMP:20260423T130546Z
SUMMARY:CEDÊNCIA 2026 | Hugo Gomes
LOCATION:Pavilhão Desportivo Rua da Lavandeira N.º7  Mangualde Viseu 3530
 -262
ORGANIZER;CN=abvmangualde:MAILTO:geral@abvmangualde.com
DTSTART;TZID=Europe/Lisbon:20260414T190000
DTEND;TZID=Europe/Lisbon:20260414T210000
X-ALT-DESC;FMTTYPE=TEXT/HTML:
CATEGORIES:Pavilhão
URL;VALUE=URI:https://www.abvmangualde.com/mc-events/cedencia-2026-hugo-gom
 es/
METHOD:PUBLISH
END:VEVENT
BEGIN:VEVENT
UID:224-2
DTSTAMP:20260423T130546Z
SUMMARY:CEDÊNCIA | Gigantes Sport Mangualde
LOCATION:Pavilhão Desportivo Rua da Lavandeira N.º7  Mangualde Viseu 3530
 -262
ORGANIZER;CN=abvmangualde:MAILTO:geral@abvmangualde.com
DTSTART;TZID=Europe/Lisbon:20260415T180000
DTEND;TZID=Europe/Lisbon:20260415T190000
X-ALT-DESC;FMTTYPE=TEXT/HTML:
CATEGORIES:Pavilhão
URL;VALUE=URI:https://www.abvmangualde.com/mc-events/cedencia-gigantes-spor
 t-mangualde/
METHOD:PUBLISH
END:VEVENT
BEGIN:VEVENT
UID:225-2
DTSTAMP:20260423T130546Z
SUMMARY:CEDÊNCIA | Gigantes Sport Mangualde
LOCATION:Pavilhão Desportivo Rua da Lavandeira N.º7  Mangualde Viseu 3530
 -262
ORGANIZER;CN=abvmangualde:MAILTO:geral@abvmangualde.com
DTSTART;TZID=Europe/Lisbon:20260417T180000
DTEND;TZID=Europe/Lisbon:20260417T190000
X-ALT-DESC;FMTTYPE=TEXT/HTML:
CATEGORIES:Pavilhão
URL;VALUE=URI:https://www.abvmangualde.com/mc-events/cedencia-gigantes-spor
 t-mangualde/
METHOD:PUBLISH
END:VEVENT
BEGIN:VEVENT
UID:580-83
DTSTAMP:20260423T130546Z
SUMMARY:CEDÊNCIA 2026 | João Pestana
LOCATION:Pavilhão Desportivo Rua da Lavandeira N.º7  Mangualde Viseu 3530
 -262
ORGANIZER;CN=abvmangualde:MAILTO:geral@abvmangualde.com
DTSTART;TZID=Europe/Lisbon:20260418T160000
DTEND;TZID=Europe/Lisbon:20260418T180000
X-ALT-DESC;FMTTYPE=TEXT/HTML:
CATEGORIES:Pavilhão
URL;VALUE=URI:https://www.abvmangualde.com/mc-events/cedencia-2026-joao-pes
 tana/
METHOD:PUBLISH
END:VEVENT
BEGIN:VEVENT
UID:558-64
DTSTAMP:20260423T130546Z
SUMMARY:SAÍDA FANFARRA 2026 | Festa Religiosa - Fonte Arcada
LOCATION:
ORGANIZER;CN=abvmangualde:MAILTO:geral@abvmangualde.com
DTSTART;TZID=Europe/Lisbon:20260419T130000
DTEND;TZID=Europe/Lisbon:20260419T180000
X-ALT-DESC;FMTTYPE=TEXT/HTML:
CATEGORIES:Fanfarra
URL;VALUE=URI:https://www.abvmangualde.com/mc-events/saida-fanfarra-2026-fe
 sta-religiosa-fonte-arcada/
METHOD:PUBLISH
END:VEVENT
BEGIN:VEVENT
UID:581-77
DTSTAMP:20260423T130546Z
SUMMARY:CEDÊNCIA 2026 | Hugo Gomes
LOCATION:Pavilhão Desportivo Rua da Lavandeira N.º7  Mangualde Viseu 3530
 -262
ORGANIZER;CN=abvmangualde:MAILTO:geral@abvmangualde.com
DTSTART;TZID=Europe/Lisbon:20260421T190000
DTEND;TZID=Europe/Lisbon:20260421T210000
X-ALT-DESC;FMTTYPE=TEXT/HTML:
CATEGORIES:Pavilhão
URL;VALUE=URI:https://www.abvmangualde.com/mc-events/cedencia-2026-hugo-gom
 es/
METHOD:PUBLISH
END:VEVENT
BEGIN:VEVENT
UID:226-2
DTSTAMP:20260423T130546Z
SUMMARY:CEDÊNCIA | Gigantes Sport Mangualde
LOCATION:Pavilhão Desportivo Rua da Lavandeira N.º7  Mangualde Viseu 3530
 -262
ORGANIZER;CN=abvmangualde:MAILTO:geral@abvmangualde.com
DTSTART;TZID=Europe/Lisbon:20260422T180000
DTEND;TZID=Europe/Lisbon:20260422T190000
X-ALT-DESC;FMTTYPE=TEXT/HTML:
CATEGORIES:Pavilhão
URL;VALUE=URI:https://www.abvmangualde.com/mc-events/cedencia-gigantes-spor
 t-mangualde/
METHOD:PUBLISH
END:VEVENT
BEGIN:VEVENT
UID:227-2
DTSTAMP:20260423T130546Z
SUMMARY:CEDÊNCIA | Gigantes Sport Mangualde
LOCATION:Pavilhão Desportivo Rua da Lavandeira N.º7  Mangualde Viseu 3530
 -262
ORGANIZER;CN=abvmangualde:MAILTO:geral@abvmangualde.com
DTSTART;TZID=Europe/Lisbon:20260424T180000
DTEND;TZID=Europe/Lisbon:20260424T190000
X-ALT-DESC;FMTTYPE=TEXT/HTML:
CATEGORIES:Pavilhão
URL;VALUE=URI:https://www.abvmangualde.com/mc-events/cedencia-gigantes-spor
 t-mangualde/
METHOD:PUBLISH
END:VEVENT
BEGIN:VEVENT
UID:557-63
DTSTAMP:20260423T130546Z
SUMMARY:SAÍDA FANFARRA 2026 | Desfile de Fanfarras - Alpiarça
LOCATION:
ORGANIZER;CN=abvmangualde:MAILTO:geral@abvmangualde.com
DTSTART;TZID=Europe/Lisbon:20260426T090000
DTEND;TZID=Europe/Lisbon:20260426T180000
X-ALT-DESC;FMTTYPE=TEXT/HTML:
CATEGORIES:Fanfarra
URL;VALUE=URI:https://www.abvmangualde.com/mc-events/saida-fanfarra-2026-de
 sfile-de-fanfarras-alpiarca/
METHOD:PUBLISH
END:VEVENT
BEGIN:VEVENT
UID:228-2
DTSTAMP:20260423T130546Z
SUMMARY:CEDÊNCIA | Gigantes Sport Mangualde
LOCATION:Pavilhão Desportivo Rua da Lavandeira N.º7  Mangualde Viseu 3530
 -262
ORGANIZER;CN=abvmangualde:MAILTO:geral@abvmangualde.com
DTSTART;TZID=Europe/Lisbon:20260429T180000
DTEND;TZID=Europe/Lisbon:20260429T190000
X-ALT-DESC;FMTTYPE=TEXT/HTML:
CATEGORIES:Pavilhão
URL;VALUE=URI:https://www.abvmangualde.com/mc-events/cedencia-gigantes-spor
 t-mangualde/
METHOD:PUBLISH
END:VEVENT
END:VCALENDAR